BEGIN:VCALENDAR
VERSION:2.0
PRODID:-//Feuerwehr Aschau am Inn e.V. - ECPv6.15.20//NONSGML v1.0//EN
CALSCALE:GREGORIAN
METHOD:PUBLISH
X-ORIGINAL-URL:https://www.feuerwehr-aschau.de
X-WR-CALDESC:Veranstaltungen für Feuerwehr Aschau am Inn e.V.
REFRESH-INTERVAL;VALUE=DURATION:PT1H
X-Robots-Tag:noindex
X-PUBLISHED-TTL:PT1H
BEGIN:VTIMEZONE
TZID:Europe/Helsinki
BEGIN:DAYLIGHT
TZOFFSETFROM:+0200
TZOFFSETTO:+0300
TZNAME:EEST
DTSTART:20250330T010000
END:DAYLIGHT
BEGIN:STANDARD
TZOFFSETFROM:+0300
TZOFFSETTO:+0200
TZNAME:EET
DTSTART:20251026T010000
END:STANDARD
BEGIN:DAYLIGHT
TZOFFSETFROM:+0200
TZOFFSETTO:+0300
TZNAME:EEST
DTSTART:20260329T010000
END:DAYLIGHT
BEGIN:STANDARD
TZOFFSETFROM:+0300
TZOFFSETTO:+0200
TZNAME:EET
DTSTART:20261025T010000
END:STANDARD
BEGIN:DAYLIGHT
TZOFFSETFROM:+0200
TZOFFSETTO:+0300
TZNAME:EEST
DTSTART:20270328T010000
END:DAYLIGHT
BEGIN:STANDARD
TZOFFSETFROM:+0300
TZOFFSETTO:+0200
TZNAME:EET
DTSTART:20271031T010000
END:STANDARD
BEGIN:DAYLIGHT
TZOFFSETFROM:+0200
TZOFFSETTO:+0300
TZNAME:EEST
DTSTART:20280326T010000
END:DAYLIGHT
BEGIN:STANDARD
TZOFFSETFROM:+0300
TZOFFSETTO:+0200
TZNAME:EET
DTSTART:20281029T010000
END:STANDARD
END:VTIMEZONE
BEGIN:VEVENT
DTSTART;TZID=Europe/Helsinki:20261029T183000
DTEND;TZID=Europe/Helsinki:20261029T200000
DTSTAMP:20260421T234435
CREATED:20230706T224414Z
LAST-MODIFIED:20260223T221909Z
UID:998-1793298600-1793304000@www.feuerwehr-aschau.de
SUMMARY:Jugend
DESCRIPTION:
URL:https://www.feuerwehr-aschau.de/event/jugend-2/
LOCATION:Feuerwehr Aschau\, St.-Florians-Weg 1\, Aschau am Inn\, Bayern\, 84544\, Deutschland
CATEGORIES:Jugend
END:VEVENT
BEGIN:VEVENT
DTSTART;TZID=Europe/Helsinki:20261112T183000
DTEND;TZID=Europe/Helsinki:20261112T183000
DTSTAMP:20260421T234435
CREATED:20230712T221023Z
LAST-MODIFIED:20260223T221941Z
UID:1049-1794508200-1794508200@www.feuerwehr-aschau.de
SUMMARY:Jugend
DESCRIPTION:
URL:https://www.feuerwehr-aschau.de/event/jugend-62/
LOCATION:Feuerwehr Aschau\, St.-Florians-Weg 1\, Aschau am Inn\, Bayern\, 84544\, Deutschland
CATEGORIES:Jugend
END:VEVENT
BEGIN:VEVENT
DTSTART;TZID=Europe/Helsinki:20261119T183000
DTEND;TZID=Europe/Helsinki:20261119T200000
DTSTAMP:20260421T234435
CREATED:20230626T163030Z
LAST-MODIFIED:20260223T222017Z
UID:1002-1795113000-1795118400@www.feuerwehr-aschau.de
SUMMARY:Jugend
DESCRIPTION:
URL:https://www.feuerwehr-aschau.de/event/jugend-6/
LOCATION:Feuerwehr Aschau\, St.-Florians-Weg 1\, Aschau am Inn\, Bayern\, 84544\, Deutschland
CATEGORIES:Jugend
END:VEVENT
BEGIN:VEVENT
DTSTART;TZID=Europe/Helsinki:20261126T183000
DTEND;TZID=Europe/Helsinki:20261126T183000
DTSTAMP:20260421T234435
CREATED:20230712T221023Z
LAST-MODIFIED:20260223T222050Z
UID:1050-1795717800-1795717800@www.feuerwehr-aschau.de
SUMMARY:Jugend
DESCRIPTION:
URL:https://www.feuerwehr-aschau.de/event/jugend-61/
LOCATION:Feuerwehr Aschau\, St.-Florians-Weg 1\, Aschau am Inn\, Bayern\, 84544\, Deutschland
CATEGORIES:Jugend
END:VEVENT
BEGIN:VEVENT
DTSTART;TZID=Europe/Helsinki:20261203T183000
DTEND;TZID=Europe/Helsinki:20261203T200000
DTSTAMP:20260421T234435
CREATED:20230712T221040Z
LAST-MODIFIED:20260223T222127Z
UID:1057-1796322600-1796328000@www.feuerwehr-aschau.de
SUMMARY:Jugend
DESCRIPTION:
URL:https://www.feuerwehr-aschau.de/event/jugend-54/
LOCATION:Feuerwehr Aschau\, St.-Florians-Weg 1\, Aschau am Inn\, Bayern\, 84544\, Deutschland
CATEGORIES:Jugend
END:VEVENT
BEGIN:VEVENT
DTSTART;TZID=Europe/Helsinki:20261210T183000
DTEND;TZID=Europe/Helsinki:20261210T200000
DTSTAMP:20260421T234435
CREATED:20230712T221026Z
LAST-MODIFIED:20260223T222157Z
UID:1055-1796927400-1796932800@www.feuerwehr-aschau.de
SUMMARY:Jugend
DESCRIPTION:
URL:https://www.feuerwehr-aschau.de/event/jugend-56/
LOCATION:Feuerwehr Aschau\, St.-Florians-Weg 1\, Aschau am Inn\, Bayern\, 84544\, Deutschland
CATEGORIES:Jugend
END:VEVENT
BEGIN:VEVENT
DTSTART;TZID=Europe/Helsinki:20261217T183000
DTEND;TZID=Europe/Helsinki:20261217T200000
DTSTAMP:20260421T234435
CREATED:20230712T221026Z
LAST-MODIFIED:20260223T222223Z
UID:1056-1797532200-1797537600@www.feuerwehr-aschau.de
SUMMARY:Jugend
DESCRIPTION:
URL:https://www.feuerwehr-aschau.de/event/jugend-55/
LOCATION:Feuerwehr Aschau\, St.-Florians-Weg 1\, Aschau am Inn\, Bayern\, 84544\, Deutschland
CATEGORIES:Jugend
END:VEVENT
BEGIN:VEVENT
DTSTART;TZID=Europe/Helsinki:20261223T190000
DTEND;TZID=Europe/Helsinki:20261223T190000
DTSTAMP:20260421T234435
CREATED:20230703T230557Z
LAST-MODIFIED:20250119T165656Z
UID:826-1798052400-1798052400@www.feuerwehr-aschau.de
SUMMARY:Warten auf´s Christkind
DESCRIPTION:
URL:https://www.feuerwehr-aschau.de/event/warten-aufs-christkind/
LOCATION:Feuerwehr Aschau\, St.-Florians-Weg 1\, Aschau am Inn\, Bayern\, 84544\, Deutschland
CATEGORIES:Fest
END:VEVENT
BEGIN:VEVENT
DTSTART;VALUE=DATE:20261224
DTEND;VALUE=DATE:20261225
DTSTAMP:20260421T234435
CREATED:20230703T230642Z
LAST-MODIFIED:20260223T214858Z
UID:828-1798070400-1798156799@www.feuerwehr-aschau.de
SUMMARY:Heilig Abend
DESCRIPTION:
URL:https://www.feuerwehr-aschau.de/event/heilig-abend/
LOCATION:Bayern
CATEGORIES:Feiertag
END:VEVENT
BEGIN:VEVENT
DTSTART;VALUE=DATE:20261231
DTEND;VALUE=DATE:20270101
DTSTAMP:20260421T234435
CREATED:20230703T230830Z
LAST-MODIFIED:20260223T214513Z
UID:834-1798675200-1798761599@www.feuerwehr-aschau.de
SUMMARY:Sylvester
DESCRIPTION:
URL:https://www.feuerwehr-aschau.de/event/sylvester/
LOCATION:Bayern
CATEGORIES:Feiertag
END:VEVENT
BEGIN:VEVENT
DTSTART;TZID=Europe/Helsinki:20270114T183000
DTEND;TZID=Europe/Helsinki:20270114T200000
DTSTAMP:20260421T234435
CREATED:20230712T221140Z
LAST-MODIFIED:20260223T222257Z
UID:1077-1799951400-1799956800@www.feuerwehr-aschau.de
SUMMARY:Jugend
DESCRIPTION:
URL:https://www.feuerwehr-aschau.de/event/jugend-33/
LOCATION:Feuerwehr Aschau\, St.-Florians-Weg 1\, Aschau am Inn\, Bayern\, 84544\, Deutschland
CATEGORIES:Jugend
END:VEVENT
BEGIN:VEVENT
DTSTART;TZID=Europe/Helsinki:20270121T183000
DTEND;TZID=Europe/Helsinki:20270121T200000
DTSTAMP:20260421T234435
CREATED:20230712T221128Z
LAST-MODIFIED:20260223T222319Z
UID:1076-1800556200-1800561600@www.feuerwehr-aschau.de
SUMMARY:Jugend
DESCRIPTION:
URL:https://www.feuerwehr-aschau.de/event/jugend-34/
LOCATION:Feuerwehr Aschau\, St.-Florians-Weg 1\, Aschau am Inn\, Bayern\, 84544\, Deutschland
CATEGORIES:Jugend
END:VEVENT
BEGIN:VEVENT
DTSTART;TZID=Europe/Helsinki:20270128T183000
DTEND;TZID=Europe/Helsinki:20270128T200000
DTSTAMP:20260421T234435
CREATED:20230712T221127Z
LAST-MODIFIED:20260223T222357Z
UID:1074-1801161000-1801166400@www.feuerwehr-aschau.de
SUMMARY:Jugend
DESCRIPTION:
URL:https://www.feuerwehr-aschau.de/event/jugend-36/
LOCATION:Feuerwehr Aschau\, St.-Florians-Weg 1\, Aschau am Inn\, Bayern\, 84544\, Deutschland
CATEGORIES:Jugend
END:VEVENT
BEGIN:VEVENT
DTSTART;TZID=Europe/Helsinki:20270204T183000
DTEND;TZID=Europe/Helsinki:20270204T200000
DTSTAMP:20260421T234435
CREATED:20230712T221127Z
LAST-MODIFIED:20260223T222427Z
UID:1075-1801765800-1801771200@www.feuerwehr-aschau.de
SUMMARY:Jugend
DESCRIPTION:
URL:https://www.feuerwehr-aschau.de/event/jugend-35/
LOCATION:Feuerwehr Aschau\, St.-Florians-Weg 1\, Aschau am Inn\, Bayern\, 84544\, Deutschland
CATEGORIES:Jugend
END:VEVENT
BEGIN:VEVENT
DTSTART;TZID=Europe/Helsinki:20270218T183000
DTEND;TZID=Europe/Helsinki:20270218T200000
DTSTAMP:20260421T234435
CREATED:20230712T221127Z
LAST-MODIFIED:20260223T222452Z
UID:1073-1802975400-1802980800@www.feuerwehr-aschau.de
SUMMARY:Jugend
DESCRIPTION:
URL:https://www.feuerwehr-aschau.de/event/jugend-37/
LOCATION:Feuerwehr Aschau\, St.-Florians-Weg 1\, Aschau am Inn\, Bayern\, 84544\, Deutschland
CATEGORIES:Jugend
END:VEVENT
BEGIN:VEVENT
DTSTART;TZID=Europe/Helsinki:20270225T183000
DTEND;TZID=Europe/Helsinki:20270225T200000
DTSTAMP:20260421T234435
CREATED:20230712T221126Z
LAST-MODIFIED:20260223T222515Z
UID:1072-1803580200-1803585600@www.feuerwehr-aschau.de
SUMMARY:Jugend
DESCRIPTION:
URL:https://www.feuerwehr-aschau.de/event/jugend-38/
LOCATION:Feuerwehr Aschau\, St.-Florians-Weg 1\, Aschau am Inn\, Bayern\, 84544\, Deutschland
CATEGORIES:Jugend
END:VEVENT
BEGIN:VEVENT
DTSTART;TZID=Europe/Helsinki:20270304T183000
DTEND;TZID=Europe/Helsinki:20270304T200000
DTSTAMP:20260421T234435
CREATED:20230712T221111Z
LAST-MODIFIED:20260223T222550Z
UID:1070-1804185000-1804190400@www.feuerwehr-aschau.de
SUMMARY:Jugend
DESCRIPTION:
URL:https://www.feuerwehr-aschau.de/event/jugend-40/
LOCATION:Feuerwehr Aschau\, St.-Florians-Weg 1\, Aschau am Inn\, Bayern\, 84544\, Deutschland
CATEGORIES:Jugend
END:VEVENT
BEGIN:VEVENT
DTSTART;TZID=Europe/Helsinki:20270311T183000
DTEND;TZID=Europe/Helsinki:20270311T200000
DTSTAMP:20260421T234435
CREATED:20230712T221111Z
LAST-MODIFIED:20260223T222611Z
UID:1071-1804789800-1804795200@www.feuerwehr-aschau.de
SUMMARY:Jugend
DESCRIPTION:
URL:https://www.feuerwehr-aschau.de/event/jugend-39/
LOCATION:Feuerwehr Aschau\, St.-Florians-Weg 1\, Aschau am Inn\, Bayern\, 84544\, Deutschland
CATEGORIES:Jugend
END:VEVENT
BEGIN:VEVENT
DTSTART;TZID=Europe/Helsinki:20270318T183000
DTEND;TZID=Europe/Helsinki:20270318T200000
DTSTAMP:20260421T234435
CREATED:20230712T221111Z
LAST-MODIFIED:20260223T222637Z
UID:1069-1805394600-1805400000@www.feuerwehr-aschau.de
SUMMARY:Jugend
DESCRIPTION:
URL:https://www.feuerwehr-aschau.de/event/jugend-41/
LOCATION:Feuerwehr Aschau\, St.-Florians-Weg 1\, Aschau am Inn\, Bayern\, 84544\, Deutschland
CATEGORIES:Jugend
END:VEVENT
BEGIN:VEVENT
DTSTART;TZID=Europe/Helsinki:20270408T183000
DTEND;TZID=Europe/Helsinki:20270408T200000
DTSTAMP:20260421T234435
CREATED:20230712T221056Z
LAST-MODIFIED:20260223T222802Z
UID:1066-1807209000-1807214400@www.feuerwehr-aschau.de
SUMMARY:Jugend
DESCRIPTION:
URL:https://www.feuerwehr-aschau.de/event/jugend-45/
LOCATION:Feuerwehr Aschau\, St.-Florians-Weg 1\, Aschau am Inn\, Bayern\, 84544\, Deutschland
CATEGORIES:Jugend
END:VEVENT
BEGIN:VEVENT
DTSTART;TZID=Europe/Helsinki:20270415T183000
DTEND;TZID=Europe/Helsinki:20270415T200000
DTSTAMP:20260421T234435
CREATED:20230712T221110Z
LAST-MODIFIED:20260223T222833Z
UID:1067-1807813800-1807819200@www.feuerwehr-aschau.de
SUMMARY:Jugend
DESCRIPTION:
URL:https://www.feuerwehr-aschau.de/event/jugend-43/
LOCATION:Feuerwehr Aschau\, St.-Florians-Weg 1\, Aschau am Inn\, Bayern\, 84544\, Deutschland
CATEGORIES:Jugend
END:VEVENT
BEGIN:VEVENT
DTSTART;TZID=Europe/Helsinki:20270422T183000
DTEND;TZID=Europe/Helsinki:20270422T200000
DTSTAMP:20260421T234435
CREATED:20230712T221056Z
LAST-MODIFIED:20260223T222901Z
UID:1065-1808418600-1808424000@www.feuerwehr-aschau.de
SUMMARY:Jugend
DESCRIPTION:
URL:https://www.feuerwehr-aschau.de/event/jugend-46/
LOCATION:Feuerwehr Aschau\, St.-Florians-Weg 1\, Aschau am Inn\, Bayern\, 84544\, Deutschland
CATEGORIES:Jugend
END:VEVENT
BEGIN:VEVENT
DTSTART;TZID=Europe/Helsinki:20270429T183000
DTEND;TZID=Europe/Helsinki:20270429T200000
DTSTAMP:20260421T234435
CREATED:20230712T221110Z
LAST-MODIFIED:20260223T222952Z
UID:1068-1809023400-1809028800@www.feuerwehr-aschau.de
SUMMARY:Jugend
DESCRIPTION:
URL:https://www.feuerwehr-aschau.de/event/jugend-42/
LOCATION:Feuerwehr Aschau\, St.-Florians-Weg 1\, Aschau am Inn\, Bayern\, 84544\, Deutschland
CATEGORIES:Jugend
END:VEVENT
BEGIN:VEVENT
DTSTART;TZID=Europe/Helsinki:20270513T183000
DTEND;TZID=Europe/Helsinki:20270513T200000
DTSTAMP:20260421T234435
CREATED:20230712T221056Z
LAST-MODIFIED:20260223T223023Z
UID:1064-1810233000-1810238400@www.feuerwehr-aschau.de
SUMMARY:Jugend
DESCRIPTION:
URL:https://www.feuerwehr-aschau.de/event/jugend-47/
LOCATION:Feuerwehr Aschau\, St.-Florians-Weg 1\, Aschau am Inn\, Bayern\, 84544\, Deutschland
CATEGORIES:Jugend
END:VEVENT
BEGIN:VEVENT
DTSTART;TZID=Europe/Helsinki:20270610T183000
DTEND;TZID=Europe/Helsinki:20270610T200000
DTSTAMP:20260421T234435
CREATED:20230712T221055Z
LAST-MODIFIED:20260223T223150Z
UID:1062-1812652200-1812657600@www.feuerwehr-aschau.de
SUMMARY:Jugend
DESCRIPTION:
URL:https://www.feuerwehr-aschau.de/event/jugend-49/
LOCATION:Feuerwehr Aschau\, St.-Florians-Weg 1\, Aschau am Inn\, Bayern\, 84544\, Deutschland
CATEGORIES:Jugend
END:VEVENT
BEGIN:VEVENT
DTSTART;TZID=Europe/Helsinki:20270617T183000
DTEND;TZID=Europe/Helsinki:20270617T200000
DTSTAMP:20260421T234435
CREATED:20230712T221025Z
LAST-MODIFIED:20260223T223215Z
UID:1052-1813257000-1813262400@www.feuerwehr-aschau.de
SUMMARY:Jugend
DESCRIPTION:
URL:https://www.feuerwehr-aschau.de/event/jugend-59/
LOCATION:Feuerwehr Aschau\, St.-Florians-Weg 1\, Aschau am Inn\, Bayern\, 84544\, Deutschland
CATEGORIES:Jugend
END:VEVENT
BEGIN:VEVENT
DTSTART;TZID=Europe/Helsinki:20270624T183000
DTEND;TZID=Europe/Helsinki:20270624T200000
DTSTAMP:20260421T234435
CREATED:20230712T221025Z
LAST-MODIFIED:20260223T223247Z
UID:1053-1813861800-1813867200@www.feuerwehr-aschau.de
SUMMARY:Jugend
DESCRIPTION:
URL:https://www.feuerwehr-aschau.de/event/jugend-58/
LOCATION:Feuerwehr Aschau\, St.-Florians-Weg 1\, Aschau am Inn\, Bayern\, 84544\, Deutschland
CATEGORIES:Jugend
END:VEVENT
BEGIN:VEVENT
DTSTART;VALUE=DATE:20270625
DTEND;VALUE=DATE:20270626
DTSTAMP:20260421T234435
CREATED:20250416T110113Z
LAST-MODIFIED:20260223T230526Z
UID:1711-1813881600-1813967999@www.feuerwehr-aschau.de
SUMMARY:155 jähriges Gründungsfest FF Ampfing
DESCRIPTION:
URL:https://www.feuerwehr-aschau.de/event/155-jaehriges-gruendungsfest-ff-ampfing/
LOCATION:Bayern
CATEGORIES:Fest
END:VEVENT
BEGIN:VEVENT
DTSTART;TZID=Europe/Helsinki:20270701T183000
DTEND;TZID=Europe/Helsinki:20270701T200000
DTSTAMP:20260421T234435
CREATED:20230712T221041Z
LAST-MODIFIED:20260223T223324Z
UID:1059-1814466600-1814472000@www.feuerwehr-aschau.de
SUMMARY:Jugend
DESCRIPTION:
URL:https://www.feuerwehr-aschau.de/event/jugend-52/
LOCATION:Feuerwehr Aschau\, St.-Florians-Weg 1\, Aschau am Inn\, Bayern\, 84544\, Deutschland
CATEGORIES:Jugend
END:VEVENT
BEGIN:VEVENT
DTSTART;TZID=Europe/Helsinki:20270708T183000
DTEND;TZID=Europe/Helsinki:20270708T200000
DTSTAMP:20260421T234435
CREATED:20230712T221023Z
LAST-MODIFIED:20260223T223402Z
UID:1051-1815071400-1815076800@www.feuerwehr-aschau.de
SUMMARY:Jugend
DESCRIPTION:
URL:https://www.feuerwehr-aschau.de/event/jugend-60/
LOCATION:Feuerwehr Aschau\, St.-Florians-Weg 1\, Aschau am Inn\, Bayern\, 84544\, Deutschland
CATEGORIES:Jugend
END:VEVENT
END:VCALENDAR