BEGIN:VCALENDAR
VERSION:2.0
PRODID:-//Feuerwehr Aschau am Inn e.V. - ECPv6.15.20//NONSGML v1.0//EN
CALSCALE:GREGORIAN
METHOD:PUBLISH
X-WR-CALNAME:Feuerwehr Aschau am Inn e.V.
X-ORIGINAL-URL:https://www.feuerwehr-aschau.de
X-WR-CALDESC:Veranstaltungen für Feuerwehr Aschau am Inn e.V.
REFRESH-INTERVAL;VALUE=DURATION:PT1H
X-Robots-Tag:noindex
X-PUBLISHED-TTL:PT1H
BEGIN:VTIMEZONE
TZID:Europe/Helsinki
BEGIN:DAYLIGHT
TZOFFSETFROM:+0200
TZOFFSETTO:+0300
TZNAME:EEST
DTSTART:20250330T010000
END:DAYLIGHT
BEGIN:STANDARD
TZOFFSETFROM:+0300
TZOFFSETTO:+0200
TZNAME:EET
DTSTART:20251026T010000
END:STANDARD
BEGIN:DAYLIGHT
TZOFFSETFROM:+0200
TZOFFSETTO:+0300
TZNAME:EEST
DTSTART:20260329T010000
END:DAYLIGHT
BEGIN:STANDARD
TZOFFSETFROM:+0300
TZOFFSETTO:+0200
TZNAME:EET
DTSTART:20261025T010000
END:STANDARD
BEGIN:DAYLIGHT
TZOFFSETFROM:+0200
TZOFFSETTO:+0300
TZNAME:EEST
DTSTART:20270328T010000
END:DAYLIGHT
BEGIN:STANDARD
TZOFFSETFROM:+0300
TZOFFSETTO:+0200
TZNAME:EET
DTSTART:20271031T010000
END:STANDARD
END:VTIMEZONE
BEGIN:VEVENT
DTSTART;VALUE=DATE:20260517
DTEND;VALUE=DATE:20260518
DTSTAMP:20260421T205600
CREATED:20260223T213834Z
LAST-MODIFIED:20260223T213955Z
UID:1758-1778976000-1779062399@www.feuerwehr-aschau.de
SUMMARY:Festsonntag Oberbergkirchen
DESCRIPTION:
URL:https://www.feuerwehr-aschau.de/event/festsonntag-ffw-oberbergkirchen/
LOCATION:Bayern
END:VEVENT
BEGIN:VEVENT
DTSTART;TZID=Europe/Helsinki:20260521T183000
DTEND;TZID=Europe/Helsinki:20260521T200000
DTSTAMP:20260421T205600
CREATED:20230706T224507Z
LAST-MODIFIED:20250119T163929Z
UID:1008-1779388200-1779393600@www.feuerwehr-aschau.de
SUMMARY:Jugend
DESCRIPTION:
URL:https://www.feuerwehr-aschau.de/event/jugend-12/
LOCATION:Feuerwehr Aschau\, St.-Florians-Weg 1\, Aschau am Inn\, Bayern\, 84544\, Deutschland
CATEGORIES:Jugend
END:VEVENT
BEGIN:VEVENT
DTSTART;TZID=Europe/Helsinki:20260527T193000
DTEND;TZID=Europe/Helsinki:20260527T210000
DTSTAMP:20260421T205600
CREATED:20240228T220121Z
LAST-MODIFIED:20260223T214118Z
UID:1349-1779910200-1779915600@www.feuerwehr-aschau.de
SUMMARY:Gruppenführer
DESCRIPTION:Ausbildersitzung
URL:https://www.feuerwehr-aschau.de/event/gruppenfuehrer-11/
LOCATION:Feuerwehr Aschau\, St.-Florians-Weg 1\, Aschau am Inn\, Bayern\, 84544\, Deutschland
CATEGORIES:Gruppenführer
END:VEVENT
BEGIN:VEVENT
DTSTART;TZID=Europe/Helsinki:20260528T183000
DTEND;TZID=Europe/Helsinki:20260528T200000
DTSTAMP:20260421T205600
CREATED:20230706T224553Z
LAST-MODIFIED:20250119T163956Z
UID:1015-1779993000-1779998400@www.feuerwehr-aschau.de
SUMMARY:Jugend
DESCRIPTION:
URL:https://www.feuerwehr-aschau.de/event/jugend-19/
LOCATION:Feuerwehr Aschau\, St.-Florians-Weg 1\, Aschau am Inn\, Bayern\, 84544\, Deutschland
CATEGORIES:Jugend
END:VEVENT
BEGIN:VEVENT
DTSTART;TZID=Europe/Helsinki:20260603T183000
DTEND;TZID=Europe/Helsinki:20260603T200000
DTSTAMP:20260421T205600
CREATED:20230712T221055Z
LAST-MODIFIED:20260223T223101Z
UID:1063-1780511400-1780516800@www.feuerwehr-aschau.de
SUMMARY:Jugend
DESCRIPTION:
URL:https://www.feuerwehr-aschau.de/event/jugend-48/
LOCATION:Feuerwehr Aschau\, St.-Florians-Weg 1\, Aschau am Inn\, Bayern\, 84544\, Deutschland
CATEGORIES:Jugend
END:VEVENT
BEGIN:VEVENT
DTSTART;TZID=Europe/Helsinki:20260610T193000
DTEND;TZID=Europe/Helsinki:20260610T213000
DTSTAMP:20260421T205600
CREATED:20240228T211421Z
LAST-MODIFIED:20260223T214242Z
UID:1275-1781119800-1781127000@www.feuerwehr-aschau.de
SUMMARY:Monatsübung
DESCRIPTION:Schaumeinsatz
URL:https://www.feuerwehr-aschau.de/event/monatsuebung-14/
LOCATION:Feuerwehr Aschau\, St.-Florians-Weg 1\, Aschau am Inn\, Bayern\, 84544\, Deutschland
CATEGORIES:Monatsübung
END:VEVENT
BEGIN:VEVENT
DTSTART;TZID=Europe/Helsinki:20260611T183000
DTEND;TZID=Europe/Helsinki:20260611T200000
DTSTAMP:20260421T205600
CREATED:20230706T224437Z
LAST-MODIFIED:20250119T164030Z
UID:1004-1781202600-1781208000@www.feuerwehr-aschau.de
SUMMARY:Jugend
DESCRIPTION:
URL:https://www.feuerwehr-aschau.de/event/jugend-8/
LOCATION:Feuerwehr Aschau\, St.-Florians-Weg 1\, Aschau am Inn\, Bayern\, 84544\, Deutschland
CATEGORIES:Jugend
END:VEVENT
BEGIN:VEVENT
DTSTART;TZID=Europe/Helsinki:20260618T183000
DTEND;TZID=Europe/Helsinki:20260618T200000
DTSTAMP:20260421T205600
CREATED:20230706T224414Z
LAST-MODIFIED:20250119T164050Z
UID:999-1781807400-1781812800@www.feuerwehr-aschau.de
SUMMARY:Jugend
DESCRIPTION:
URL:https://www.feuerwehr-aschau.de/event/jugend-3/
LOCATION:Feuerwehr Aschau\, St.-Florians-Weg 1\, Aschau am Inn\, Bayern\, 84544\, Deutschland
CATEGORIES:Jugend
END:VEVENT
BEGIN:VEVENT
DTSTART;TZID=Europe/Helsinki:20260624T193000
DTEND;TZID=Europe/Helsinki:20260624T210000
DTSTAMP:20260421T205600
CREATED:20240228T212654Z
LAST-MODIFIED:20260223T214415Z
UID:1296-1782329400-1782334800@www.feuerwehr-aschau.de
SUMMARY:Atemschutz
DESCRIPTION:Equipmentdurchsicht / Belastungsübung
URL:https://www.feuerwehr-aschau.de/event/atemschutz-7/
LOCATION:Feuerwehr Aschau\, St.-Florians-Weg 1\, Aschau am Inn\, Bayern\, 84544\, Deutschland
CATEGORIES:Atemmschutz
END:VEVENT
BEGIN:VEVENT
DTSTART;TZID=Europe/Helsinki:20260625T183000
DTEND;TZID=Europe/Helsinki:20260625T200000
DTSTAMP:20260421T205600
CREATED:20230706T224437Z
LAST-MODIFIED:20250119T164121Z
UID:1005-1782412200-1782417600@www.feuerwehr-aschau.de
SUMMARY:Jugend
DESCRIPTION:
URL:https://www.feuerwehr-aschau.de/event/jugend-9/
LOCATION:Feuerwehr Aschau\, St.-Florians-Weg 1\, Aschau am Inn\, Bayern\, 84544\, Deutschland
CATEGORIES:Jugend
END:VEVENT
BEGIN:VEVENT
DTSTART;TZID=Europe/Helsinki:20260630T183000
DTEND;TZID=Europe/Helsinki:20260630T200000
DTSTAMP:20260421T205600
CREATED:20230712T221025Z
LAST-MODIFIED:20260223T221513Z
UID:1054-1782844200-1782849600@www.feuerwehr-aschau.de
SUMMARY:Jugend
DESCRIPTION:
URL:https://www.feuerwehr-aschau.de/event/jugend-57/
LOCATION:Feuerwehr Aschau\, St.-Florians-Weg 1\, Aschau am Inn\, Bayern\, 84544\, Deutschland
CATEGORIES:Jugend
END:VEVENT
BEGIN:VEVENT
DTSTART;TZID=Europe/Helsinki:20260702T183000
DTEND;TZID=Europe/Helsinki:20260702T200000
DTSTAMP:20260421T205600
CREATED:20230706T224452Z
LAST-MODIFIED:20250119T164145Z
UID:1006-1783017000-1783022400@www.feuerwehr-aschau.de
SUMMARY:Jugend
DESCRIPTION:
URL:https://www.feuerwehr-aschau.de/event/jugend-10/
LOCATION:Feuerwehr Aschau\, St.-Florians-Weg 1\, Aschau am Inn\, Bayern\, 84544\, Deutschland
CATEGORIES:Jugend
END:VEVENT
BEGIN:VEVENT
DTSTART;TZID=Europe/Helsinki:20260703T190000
DTEND;TZID=Europe/Helsinki:20260703T230000
DTSTAMP:20260421T205600
CREATED:20260223T214656Z
LAST-MODIFIED:20260223T230716Z
UID:1765-1783105200-1783119600@www.feuerwehr-aschau.de
SUMMARY:75 Jahre Feuerwehr Waldkraiburg
DESCRIPTION:
URL:https://www.feuerwehr-aschau.de/event/75-jahre-feuerwehr-waldkraiburg/
LOCATION:Bayern
CATEGORIES:Fest
END:VEVENT
BEGIN:VEVENT
DTSTART;TZID=Europe/Helsinki:20260708T193000
DTEND;TZID=Europe/Helsinki:20260708T210000
DTSTAMP:20260421T205600
CREATED:20240228T213936Z
LAST-MODIFIED:20260223T214746Z
UID:1308-1783539000-1783544400@www.feuerwehr-aschau.de
SUMMARY:Maschinisten
DESCRIPTION:Übung
URL:https://www.feuerwehr-aschau.de/event/maschinisten-8/
LOCATION:Feuerwehr Aschau\, St.-Florians-Weg 1\, Aschau am Inn\, Bayern\, 84544\, Deutschland
CATEGORIES:Maschinisten
END:VEVENT
BEGIN:VEVENT
DTSTART;TZID=Europe/Helsinki:20260709T183000
DTEND;TZID=Europe/Helsinki:20260709T200000
DTSTAMP:20260421T205600
CREATED:20230706T224429Z
LAST-MODIFIED:20250119T164206Z
UID:1000-1783621800-1783627200@www.feuerwehr-aschau.de
SUMMARY:Jugend
DESCRIPTION:
URL:https://www.feuerwehr-aschau.de/event/jugend-4/
LOCATION:Feuerwehr Aschau\, St.-Florians-Weg 1\, Aschau am Inn\, Bayern\, 84544\, Deutschland
CATEGORIES:Jugend
END:VEVENT
BEGIN:VEVENT
DTSTART;TZID=Europe/Helsinki:20260716T183000
DTEND;TZID=Europe/Helsinki:20260716T200000
DTSTAMP:20260421T205600
CREATED:20230706T224429Z
LAST-MODIFIED:20250119T164234Z
UID:1001-1784226600-1784232000@www.feuerwehr-aschau.de
SUMMARY:Jugend
DESCRIPTION:
URL:https://www.feuerwehr-aschau.de/event/jugend-5/
LOCATION:Feuerwehr Aschau\, St.-Florians-Weg 1\, Aschau am Inn\, Bayern\, 84544\, Deutschland
CATEGORIES:Jugend
END:VEVENT
BEGIN:VEVENT
DTSTART;TZID=Europe/Helsinki:20260723T183000
DTEND;TZID=Europe/Helsinki:20260723T183000
DTSTAMP:20260421T205600
CREATED:20230712T221156Z
LAST-MODIFIED:20260223T221408Z
UID:1085-1784831400-1784831400@www.feuerwehr-aschau.de
SUMMARY:Jugend
DESCRIPTION:
URL:https://www.feuerwehr-aschau.de/event/jugend-30/
LOCATION:Feuerwehr Aschau\, St.-Florians-Weg 1\, Aschau am Inn\, Bayern\, 84544\, Deutschland
CATEGORIES:Jugend
END:VEVENT
BEGIN:VEVENT
DTSTART;TZID=Europe/Helsinki:20260910T110000
DTEND;TZID=Europe/Helsinki:20260910T113000
DTSTAMP:20260421T205600
CREATED:20240228T230816Z
LAST-MODIFIED:20260223T230625Z
UID:1405-1789038000-1789039800@www.feuerwehr-aschau.de
SUMMARY:Bundesweiter Warntag
DESCRIPTION:Der Bundesweite Warntag ist ein gemeinsamer Aktionstag von Bund\, Ländern und Kommunen. Er findet in der Regel jährlich am zweiten Donnerstag im September statt. \n2025 war dies der 11. September. Gegen 11 Uhr wurde eine Probewarnung verschickt\, gegen 11:45 Uhr eine Entwarnung. Über Cell Broadcast wird derzeit noch keine Entwarnung versendet. \nDer nächste Bundesweite Warntag findet am 10. September 2026 statt.
URL:https://www.feuerwehr-aschau.de/event/bundesweiter-warntag/
LOCATION:Bayern
CATEGORIES:Aktion
END:VEVENT
BEGIN:VEVENT
DTSTART;TZID=Europe/Helsinki:20260917T183000
DTEND;TZID=Europe/Helsinki:20260917T183000
DTSTAMP:20260421T205600
CREATED:20230712T221156Z
LAST-MODIFIED:20260223T221616Z
UID:1086-1789669800-1789669800@www.feuerwehr-aschau.de
SUMMARY:Jugend
DESCRIPTION:
URL:https://www.feuerwehr-aschau.de/event/jugend-25/
LOCATION:Feuerwehr Aschau\, St.-Florians-Weg 1\, Aschau am Inn\, Bayern\, 84544\, Deutschland
CATEGORIES:Jugend
END:VEVENT
BEGIN:VEVENT
DTSTART;TZID=Europe/Helsinki:20260924T183000
DTEND;TZID=Europe/Helsinki:20260924T183000
DTSTAMP:20260421T205600
CREATED:20230712T221210Z
LAST-MODIFIED:20260223T221640Z
UID:1087-1790274600-1790274600@www.feuerwehr-aschau.de
SUMMARY:Jugend
DESCRIPTION:
URL:https://www.feuerwehr-aschau.de/event/jugend-24/
LOCATION:Feuerwehr Aschau\, St.-Florians-Weg 1\, Aschau am Inn\, Bayern\, 84544\, Deutschland
CATEGORIES:Jugend
END:VEVENT
BEGIN:VEVENT
DTSTART;TZID=Europe/Helsinki:20261001T183000
DTEND;TZID=Europe/Helsinki:20261001T200000
DTSTAMP:20260421T205600
CREATED:20230620T224633Z
LAST-MODIFIED:20260223T221704Z
UID:1019-1790879400-1790884800@www.feuerwehr-aschau.de
SUMMARY:Jugend
DESCRIPTION:
URL:https://www.feuerwehr-aschau.de/event/jugend-23/
LOCATION:Feuerwehr Aschau\, St.-Florians-Weg 1\, Aschau am Inn\, Bayern\, 84544\, Deutschland
CATEGORIES:Jugend
END:VEVENT
BEGIN:VEVENT
DTSTART;TZID=Europe/Helsinki:20261008T183000
DTEND;TZID=Europe/Helsinki:20261008T200000
DTSTAMP:20260421T205600
CREATED:20230712T221022Z
LAST-MODIFIED:20260223T221724Z
UID:1048-1791484200-1791489600@www.feuerwehr-aschau.de
SUMMARY:Jugend
DESCRIPTION:
URL:https://www.feuerwehr-aschau.de/event/jugend-63/
LOCATION:Feuerwehr Aschau\, St.-Florians-Weg 1\, Aschau am Inn\, Bayern\, 84544\, Deutschland
CATEGORIES:Jugend
END:VEVENT
BEGIN:VEVENT
DTSTART;TZID=Europe/Helsinki:20261015T183000
DTEND;TZID=Europe/Helsinki:20261015T200000
DTSTAMP:20260421T205600
CREATED:20230712T221022Z
LAST-MODIFIED:20260223T221747Z
UID:1047-1792089000-1792094400@www.feuerwehr-aschau.de
SUMMARY:Jugend
DESCRIPTION:
URL:https://www.feuerwehr-aschau.de/event/jugend-64/
LOCATION:Feuerwehr Aschau\, St.-Florians-Weg 1\, Aschau am Inn\, Bayern\, 84544\, Deutschland
CATEGORIES:Jugend
END:VEVENT
BEGIN:VEVENT
DTSTART;TZID=Europe/Helsinki:20261022T183000
DTEND;TZID=Europe/Helsinki:20261022T200000
DTSTAMP:20260421T205600
CREATED:20230706T223512Z
LAST-MODIFIED:20260223T221808Z
UID:993-1792693800-1792699200@www.feuerwehr-aschau.de
SUMMARY:Jugend
DESCRIPTION:
URL:https://www.feuerwehr-aschau.de/event/jugend/
LOCATION:Feuerwehr Aschau\, St.-Florians-Weg 1\, Aschau am Inn\, Bayern\, 84544\, Deutschland
CATEGORIES:Jugend
END:VEVENT
BEGIN:VEVENT
DTSTART;TZID=Europe/Helsinki:20261029T183000
DTEND;TZID=Europe/Helsinki:20261029T200000
DTSTAMP:20260421T205600
CREATED:20230706T224414Z
LAST-MODIFIED:20260223T221909Z
UID:998-1793298600-1793304000@www.feuerwehr-aschau.de
SUMMARY:Jugend
DESCRIPTION:
URL:https://www.feuerwehr-aschau.de/event/jugend-2/
LOCATION:Feuerwehr Aschau\, St.-Florians-Weg 1\, Aschau am Inn\, Bayern\, 84544\, Deutschland
CATEGORIES:Jugend
END:VEVENT
BEGIN:VEVENT
DTSTART;TZID=Europe/Helsinki:20261112T183000
DTEND;TZID=Europe/Helsinki:20261112T183000
DTSTAMP:20260421T205600
CREATED:20230712T221023Z
LAST-MODIFIED:20260223T221941Z
UID:1049-1794508200-1794508200@www.feuerwehr-aschau.de
SUMMARY:Jugend
DESCRIPTION:
URL:https://www.feuerwehr-aschau.de/event/jugend-62/
LOCATION:Feuerwehr Aschau\, St.-Florians-Weg 1\, Aschau am Inn\, Bayern\, 84544\, Deutschland
CATEGORIES:Jugend
END:VEVENT
BEGIN:VEVENT
DTSTART;TZID=Europe/Helsinki:20261119T183000
DTEND;TZID=Europe/Helsinki:20261119T200000
DTSTAMP:20260421T205600
CREATED:20230626T163030Z
LAST-MODIFIED:20260223T222017Z
UID:1002-1795113000-1795118400@www.feuerwehr-aschau.de
SUMMARY:Jugend
DESCRIPTION:
URL:https://www.feuerwehr-aschau.de/event/jugend-6/
LOCATION:Feuerwehr Aschau\, St.-Florians-Weg 1\, Aschau am Inn\, Bayern\, 84544\, Deutschland
CATEGORIES:Jugend
END:VEVENT
BEGIN:VEVENT
DTSTART;TZID=Europe/Helsinki:20261126T183000
DTEND;TZID=Europe/Helsinki:20261126T183000
DTSTAMP:20260421T205600
CREATED:20230712T221023Z
LAST-MODIFIED:20260223T222050Z
UID:1050-1795717800-1795717800@www.feuerwehr-aschau.de
SUMMARY:Jugend
DESCRIPTION:
URL:https://www.feuerwehr-aschau.de/event/jugend-61/
LOCATION:Feuerwehr Aschau\, St.-Florians-Weg 1\, Aschau am Inn\, Bayern\, 84544\, Deutschland
CATEGORIES:Jugend
END:VEVENT
BEGIN:VEVENT
DTSTART;TZID=Europe/Helsinki:20261203T183000
DTEND;TZID=Europe/Helsinki:20261203T200000
DTSTAMP:20260421T205600
CREATED:20230712T221040Z
LAST-MODIFIED:20260223T222127Z
UID:1057-1796322600-1796328000@www.feuerwehr-aschau.de
SUMMARY:Jugend
DESCRIPTION:
URL:https://www.feuerwehr-aschau.de/event/jugend-54/
LOCATION:Feuerwehr Aschau\, St.-Florians-Weg 1\, Aschau am Inn\, Bayern\, 84544\, Deutschland
CATEGORIES:Jugend
END:VEVENT
BEGIN:VEVENT
DTSTART;TZID=Europe/Helsinki:20261210T183000
DTEND;TZID=Europe/Helsinki:20261210T200000
DTSTAMP:20260421T205600
CREATED:20230712T221026Z
LAST-MODIFIED:20260223T222157Z
UID:1055-1796927400-1796932800@www.feuerwehr-aschau.de
SUMMARY:Jugend
DESCRIPTION:
URL:https://www.feuerwehr-aschau.de/event/jugend-56/
LOCATION:Feuerwehr Aschau\, St.-Florians-Weg 1\, Aschau am Inn\, Bayern\, 84544\, Deutschland
CATEGORIES:Jugend
END:VEVENT
END:VCALENDAR